BEGIN:VCALENDAR
VERSION:2.0
PRODID:-//ChamberMaster//Event Calendar 2.0//EN
METHOD:PUBLISH
X-PUBLISHED-TTL:P3D
REFRESH-INTERVAL:P3D
CALSCALE:GREGORIAN
BEGIN:VEVENT
DTSTART:20190301T220000Z
DTEND:20190330T230000Z
X-MICROSOFT-CDO-ALLDAYEVENT:FALSE
SUMMARY:Student Art Show-Portage Elementary & Middle Schools at PCA
DESCRIPTION:Our gallery exhibits are always free and open to the public. The Opening Reception will be on March 1\, 2019 from 4-6pm with live music and light refreshments. Come see what the youth have created this year. Exhibit runs through March 30\, 2019.
X-ALT-DESC;FMTTYPE=text/html:Our gallery exhibits are always free and open to the public. The Opening Reception will be on March 1\, 2019 from 4-6pm with live music and light refreshments. Come see what the youth have created this year. Exhibit runs through March 30\, 2019.
LOCATION:Portage Center for the Arts\, 301 East Cook Street\, Portage\, WI 53901
UID:e.374.25621
SEQUENCE:3
DTSTAMP:20260421T215714Z
URL:http://chamber.portagewi.com/events/details/student-art-show-portage-elementary-middle-schools-at-pca-25621
END:VEVENT

END:VCALENDAR
