BEGIN:VCALENDAR
VERSION:2.0
PRODID:-//ChamberMaster//Event Calendar 2.0//EN
METHOD:PUBLISH
X-PUBLISHED-TTL:P3D
REFRESH-INTERVAL:P3D
CALSCALE:GREGORIAN
BEGIN:VEVENT
DTSTART;VALUE=DATE:20250823
DTEND;VALUE=DATE:20250824
TRANSP:TRANSPARENT
X-MICROSOFT-CDO-ALLDAYEVENT:TRUE
SUMMARY:Taste of Portage Half Marathon and 5K
DESCRIPTION:Come join us and participate in our Half Marathon and 5K that will be taking place during the Taste of Portage weekend.  The course set up and timing is being coordinated by Race Day Events.\n\n \n\nRACE SIGN UP: https://runsignup.com/Race/WI/Portage/TasteofPortage12Marathonand5K\n\n\n\nCOURSE ROUTE  -  Half Marathon Course Map  & 5K Course Map (subject to change)\n\n \n\nEVENT DETAILS: Taste of Portage Half Marathon will take you on a beautiful run through Portage\, Wisconsin past several of our community parks and the paved Levee path on the Wisconsin River.  We will have t-shirts (register by 8/4 to guarantee)\, medals\, and a huge downtown post-race block party/awards ceremony!\n\n \n\nBring your whole family and enjoy the race as part of our annual Taste of Portage Market Fair in downtown for the weekend.  Friday night packets can be picked up at the event and you can stay to enjoy some live music and food.  After the race on Saturday\, you and your family can enjoy the downtown party with live music\, kid's entertainment\, a classic car show\, sidewalk sales and specials in our businesses and of course lots of food and cold beverages to enjoy!\n\n \n\nThe Taste of Portage Half Marathon and 5K will start and finish in downtown Portage at the Columbia County Administration Building\, located at 112 Edgewater Street\, Portage\, WI  53901. There will be plenty of parking here and portable bathrooms to use.\n\nEvent photos are encouraged!\n\n \n\nEVENT SCHEDULE\n\nFriday\, August 22\, 2025\n\n5pm-6:30pm   Packet pick-up and registration for Half Marathon and 5K at the Taste of Portage event happening at Market Square in downtown Portage.  (140 East Cook Street)\n\n \n\nSaturday\, August 23\, 2025\n\n5:00am - Start Area Opens\n\n5:30-7:00am    Packet Pickup and registration for Half Marathon and 5K at Columbia County Administration Building (112 East Edgewater Street)\n\n7:15am   Start of Half Marathon at Columbia County Administration Building (112 East Edgewater Street)\n\n7:30am    Start of 5K at Columbia County Administration Building (112 East Edgewater Street)\n\n10:30am   Awards Ceremony at Columbia County Administration Building (112 East Edgewater Street)\n\n11:00am-5pm    Post-Race Party at Taste of Portage downtown event with live music\, food\, beverages\, and activities for kids.\n\n \n\nLODGING\n\nThe Portage Best Western Resort Hotel & Conference Center (2701 South County Highway CX\, Portage) is offering a special group rate for those staying over and who are in town for the Taste of Portage Half Marathon.  To reserve a room at this special rate\, call 608-742-2200. (Ask for the Taste of Portage Marathon Room Rate).  The Best Western has recently been renovated\, offers an indoor heated pool and a complimentary HOT breakfast.\n\n \n\nAWARDS\n\nHalf Marathon\n\nTop 3 Finishers for both Female and Male.\n\nTop Female and Male in each age category listed.\n\n19 and under| 20-29 | 30-39 | 40-49 | 50-59 | 60+\n\n \n\n5K\n\nTop 3 Finishers for both Female and Male.\n\nTop Female and Male in each age category listed.\n\n19 and under| 20-29 | 30-39 | 40-49 | 50-59 | 60+\n\n\n\n***Please note that the awards will not be shipped.  You can pick up your award at the Portage Chamber of Commerce office the following week if you will not be present at the awards ceremony.\n\n \n\nRegister Today and Join Us in Portage on August 22 & 23\, 2025.
X-ALT-DESC;FMTTYPE=text/html:<div><span style="font-size:12px\;"><span style="font-family:arial\;">Come join us and participate in our Half Marathon and 5K that will be taking place during the Taste of Portage weekend.&nbsp\; The course set up and timing is being coordinated by Race Day Events.<br />\n&nbsp\;<br />\nRACE SIGN UP: <a href="https://runsignup.com/Race/WI/Portage/TasteofPortage12Marathonand5K">https://runsignup.com/Race/WI/Portage/TasteofPortage12Marathonand5K</a></span></span><br />\n<br />\n<u style="font-family: arial\; font-size: 12px\;"><strong>COURSE ROUTE &nbsp\;</strong></u><span style="font-family: arial\; font-size: 12px\;">-&nbsp\; <a href="https://chambermaster.blob.core.windows.net/userfiles/UserFiles/chambers/374/File/halfmarathonroute.jpg" onclick="window.open(this.href\, ''\, 'resizable=no\,status=no\,location=no\,toolbar=no\,menubar=no\,fullscreen=no\,scrollbars=no\,dependent=no')\; return false\;">Half Marathon Course Map</a> &nbsp\;&amp\; <a href="https://chambermaster.blob.core.windows.net/userfiles/UserFiles/chambers/374/File/5kroute2025.jpg" onclick="window.open(this.href\, ''\, 'resizable=no\,status=no\,location=no\,toolbar=no\,menubar=no\,fullscreen=no\,scrollbars=no\,dependent=no')\; return false\;">5K Course Map</a> (subject to change)</span><br />\n<span style="font-size:12px\;"><span style="font-family:arial\;">&nbsp\;<br />\nEVENT DETAILS: Taste of Portage Half Marathon will take you on a beautiful run through Portage\, Wisconsin past several of our community parks and the paved Levee path on the Wisconsin River.&nbsp\; We will have t-shirts (register by 8/4 to guarantee)\, medals\, and a huge downtown post-race block party/awards ceremony!<br />\n&nbsp\;<br />\nBring your whole family and enjoy the race as part of our annual Taste of Portage Market Fair in downtown for the weekend.&nbsp\; Friday night packets can be picked up at the event and you can stay to enjoy some live music and food.&nbsp\; After the race on Saturday\, you and your family can enjoy the downtown party with live music\, kid&rsquo\;s entertainment\, a classic car show\, sidewalk sales and specials in our businesses and of course lots of food and cold beverages to enjoy!<br />\n&nbsp\;<br />\nThe Taste of Portage Half Marathon and 5K will start and finish in downtown Portage at the Columbia County Administration Building\, located at 112 Edgewater Street\, Portage\, WI&nbsp\; 53901. There will be plenty of parking here and portable bathrooms to use.<br />\nEvent photos are encouraged!<br />\n&nbsp\;<br />\n<strong>EVENT SCHEDULE</strong><br />\n<u><strong>Friday\, August 22\, 2025</strong></u><br />\n5pm-6:30pm &ndash\; Packet pick-up and registration for Half Marathon and 5K at the Taste of Portage event happening at Market Square in downtown Portage.&nbsp\; (140 East Cook Street)<br />\n&nbsp\;<br />\n<u><strong>Saturday\, August 23\, 2025</strong></u><br />\n5:00am - Start Area Opens<br />\n5:30-7:00am&nbsp\; &ndash\; Packet Pickup and registration for Half Marathon and 5K at Columbia County Administration Building (112 East Edgewater Street)<br />\n7:15am &ndash\; Start of Half Marathon at Columbia County Administration Building (112 East Edgewater Street)<br />\n7:30am&nbsp\; &ndash\; Start of 5K at Columbia County Administration Building (112 East Edgewater Street)<br />\n10:30am &ndash\; Awards Ceremony at Columbia County Administration Building (112 East Edgewater Street)<br />\n11:00am-5pm&nbsp\; &ndash\; Post-Race Party at Taste of Portage downtown event with live music\, food\, beverages\, and activities for kids.<br />\n&nbsp\;</span></span><br />\n<span style="font-size:12px\;"><span style="font-family:arial\;"><strong><u>LODGING</u></strong></span></span><br />\n<span style="font-family: arial\; font-size: 12px\;">The Portage Best Western Resort Hotel &amp\; Conference Center (2701 South County Highway CX\, Portage) is offering a special group rate for those staying over&nbsp\;and who are in town for the Taste of Portage Half Marathon.&nbsp\; To reserve a room at this special rate\, call 608-742-2200. (Ask for the Taste of Portage Marathon Room Rate).&nbsp\; The Best Western has recently been renovated\, offers an indoor heated pool and a complimentary HOT breakfast.</span></div>\n\n<div><span style="font-size:12px\;"><span style="font-family:arial\;">&nbsp\;<br />\n<u><strong>AWARDS</strong></u><br />\n<strong>Half Marathon</strong><br />\nTop 3 Finishers for both Female and Male.<br />\nTop Female and Male in each age category listed.<br />\n19 and under| 20-29 | 30-39 | 40-49 | 50-59 | 60+<br />\n&nbsp\;<br />\n<strong>5K</strong><br />\nTop 3 Finishers for both Female and Male.<br />\nTop Female and Male in each age category listed.<br />\n19 and under| 20-29 | 30-39 | 40-49 | 50-59 | 60+<br />\n<br />\n***Please note that the awards will not be shipped.&nbsp\; You can pick up your award at the Portage Chamber of Commerce office the following week if you will not be present at the awards ceremony.<br />\n&nbsp\;<br />\nRegister Today and Join Us in Portage on August 22&nbsp\;&amp\; 23\, 2025.</span></span></div>\n
LOCATION:
UID:e.374.37545
SEQUENCE:3
DTSTAMP:20260423T094153Z
URL:http://chamber.portagewi.com/events/details/taste-of-portage-half-marathon-and-5k-37545
END:VEVENT

END:VCALENDAR
