BEGIN:VCALENDAR
VERSION:2.0
PRODID:-//ChamberMaster//Event Calendar 2.0//EN
METHOD:PUBLISH
X-PUBLISHED-TTL:P3D
REFRESH-INTERVAL:P3D
CALSCALE:GREGORIAN
BEGIN:VEVENT
DTSTART:20251104T190000Z
DTEND:20251104T200000Z
X-MICROSOFT-CDO-ALLDAYEVENT:FALSE
SUMMARY:Technology Assistance Appointments
DESCRIPTION:Technology Assistance Appointments\n\nTuesday\, November 4\n\n1pm to 2pm\n\nWe can provide assistance with your current smartphone\, laptop\, Kindle or more. We have 15-minute appointments available each month with one of our librarians. Sign up in advance. Limited space each month.
X-ALT-DESC;FMTTYPE=text/html:<strong>Technology Assistance Appointments</strong><br />\nTuesday\, November 4<br />\n1pm to 2pm<br />\nWe can provide assistance with your current smartphone\, laptop\, Kindle or more. We have 15-minute appointments available each month with one of our librarians. Sign up in advance. Limited space each month.&nbsp\;&nbsp\;
LOCATION:
UID:e.374.39287
SEQUENCE:3
DTSTAMP:20260423T015614Z
URL:http://chamber.portagewi.com/events/details/technology-assistance-appointments-39287
END:VEVENT

END:VCALENDAR
