BEGIN:VCALENDAR
VERSION:2.0
PRODID:-//ChamberMaster//Event Calendar 2.0//EN
METHOD:PUBLISH
X-PUBLISHED-TTL:P3D
REFRESH-INTERVAL:P3D
CALSCALE:GREGORIAN
BEGIN:VEVENT
DTSTART:20260303T190000Z
DTEND:20260303T200000Z
X-MICROSOFT-CDO-ALLDAYEVENT:FALSE
SUMMARY:Technology Assistance Appointments
DESCRIPTION:Technology Assistance Appointments\n\nTuesday\, March 3\n\n1pm to 2pm\n\nWe can provide assistance with your current smartphone or computer. We have 15-minute appointments available each month with one of our librarians. Sign up in advance. Limited space each month.
X-ALT-DESC;FMTTYPE=text/html:<strong>Technology Assistance Appointments</strong><br />\nTuesday\, March 3<br />\n1pm to 2pm<br />\nWe can provide assistance with your current smartphone or computer. We have 15-minute appointments available each month with one of our librarians. Sign up in advance. Limited space each month.&nbsp\;&nbsp\;
LOCATION:Portage Public Library 253 W. Edgewater Street
UID:e.374.40108
SEQUENCE:3
DTSTAMP:20260422T193346Z
URL:http://chamber.portagewi.com/events/details/technology-assistance-appointments-40108
END:VEVENT

END:VCALENDAR
