BEGIN:VCALENDAR
VERSION:2.0
PRODID:-//ChamberMaster//Event Calendar 2.0//EN
METHOD:PUBLISH
X-PUBLISHED-TTL:P3D
REFRESH-INTERVAL:P3D
CALSCALE:GREGORIAN
BEGIN:VEVENT
DTSTART:20190315T203000Z
DTEND:20190315T224500Z
X-MICROSOFT-CDO-ALLDAYEVENT:FALSE
SUMMARY:Teen Movie Night
DESCRIPTION:Join us for a casual evening where we watch the newest film from the Harry Potter extended universe! The movie is rated PG-13. For 6th to 12th grade only.
X-ALT-DESC;FMTTYPE=text/html:<span style="font-size: 16px\;">Join us for a casual evening where we watch the newest film from the Harry Potter extended universe! The movie is rated PG-13. For 6th to 12th grade only.</span>
LOCATION:Portage Public Library
UID:e.374.25646
SEQUENCE:3
DTSTAMP:20260421T222613Z
URL:http://chamber.portagewi.com/events/details/teen-movie-night-03-15-2019-25646
END:VEVENT

END:VCALENDAR
