BEGIN:VCALENDAR
VERSION:2.0
PRODID:-//ChamberMaster//Event Calendar 2.0//EN
METHOD:PUBLISH
X-PUBLISHED-TTL:P3D
REFRESH-INTERVAL:P3D
CALSCALE:GREGORIAN
BEGIN:VEVENT
DTSTART:20251123T163000Z
DTEND:20251123T063000Z
X-MICROSOFT-CDO-ALLDAYEVENT:FALSE
SUMMARY:Thanksgiving Sunday at Gathering Midwest
DESCRIPTION:Come join us this Sunday\, November 23 at Gathering Midwest for an early thanksgiving dinner! Bring yourself and a friend\, we've got the food covered. Service begins at 10:30am - meal\, fun and games to follow!
X-ALT-DESC;FMTTYPE=text/html:<span data-olk-copy-source="MessageBody">Come join us this Sunday\, November 23 at Gathering Midwest for an early thanksgiving dinner! Bring yourself and a friend\, we&rsquo\;ve got the food covered. Service begins at 10:30am - meal\, fun and games to follow!</span>
LOCATION:Gathering Midwest N6522 Highway 51
UID:e.374.39414
SEQUENCE:3
DTSTAMP:20260423T015855Z
URL:http://chamber.portagewi.com/events/details/thanksgiving-sunday-at-gathering-midwest-39414
END:VEVENT

END:VCALENDAR
