BEGIN:VCALENDAR
VERSION:2.0
PRODID:-//ChamberMaster//Event Calendar 2.0//EN
METHOD:PUBLISH
X-PUBLISHED-TTL:P3D
REFRESH-INTERVAL:P3D
CALSCALE:GREGORIAN
BEGIN:VEVENT
DTSTART:20190311T000000Z
DTEND:20190311T020000Z
X-MICROSOFT-CDO-ALLDAYEVENT:FALSE
SUMMARY:The Rock Pack at Ho-Chunk Gaming
DESCRIPTION:The Rock Pack at Ho-Chunk Gaming\n\nS3214 County Road BD   Baraboo\, WI 53913\n\nMarch 10 at 7pm
X-ALT-DESC;FMTTYPE=text/html:The Rock Pack at Ho-Chunk Gaming<br />\nS3214 County Road BD&nbsp\;&nbsp\; Baraboo\, WI 53913<br />\nMarch 10 at 7pm<br />\n&nbsp\;
LOCATION:
UID:e.374.25581
SEQUENCE:3
DTSTAMP:20260421T215831Z
URL:http://chamber.portagewi.com/events/details/the-rock-pack-at-ho-chunk-gaming-25581
END:VEVENT

END:VCALENDAR
