BEGIN:VCALENDAR
VERSION:2.0
PRODID:-//ChamberMaster//Event Calendar 2.0//EN
METHOD:PUBLISH
X-PUBLISHED-TTL:P3D
REFRESH-INTERVAL:P3D
CALSCALE:GREGORIAN
BEGIN:VEVENT
DTSTART;VALUE=DATE:20250820
DTEND;VALUE=DATE:20250821
TRANSP:TRANSPARENT
X-MICROSOFT-CDO-ALLDAYEVENT:TRUE
SUMMARY:Tiny heART Show exhibit at PCA
DESCRIPTION:Tiny heART Show\n\nCOMMUNITY ART PROJECT\n\n\n\n3x3 tiny canvases make up this Community Art Project at Portage Center for the Arts.\n\nExhibit will be on display through August 29\, 2025.
X-ALT-DESC;FMTTYPE=text/html:<strong>Tiny heART Show</strong><br />\nCOMMUNITY ART PROJECT<br />\n<br />\n3x3 tiny canvases make up this Community Art Project at Portage Center for the Arts.<br />\nExhibit will be on display through August 29\, 2025.
LOCATION:Portage Center for the Arts' Drury Gallery 301 E. Cook Street
UID:e.374.38138
SEQUENCE:3
DTSTAMP:20260423T093629Z
URL:http://chamber.portagewi.com/events/details/tiny-heart-show-exhibit-at-pca-08-20-2025-38138
END:VEVENT

END:VCALENDAR
