BEGIN:VCALENDAR
VERSION:2.0
PRODID:-//ChamberMaster//Event Calendar 2.0//EN
METHOD:PUBLISH
X-PUBLISHED-TTL:P3D
REFRESH-INTERVAL:P3D
CALSCALE:GREGORIAN
BEGIN:VEVENT
DTSTART;VALUE=DATE:20251026
DTEND;VALUE=DATE:20251027
TRANSP:TRANSPARENT
X-MICROSOFT-CDO-ALLDAYEVENT:TRUE
SUMMARY:Trunk or Treat at Riverwood Senior Living- Wisconsin Dells
DESCRIPTION:Join us for our Trunk or Treat event this year!
X-ALT-DESC;FMTTYPE=text/html:Join us for our Trunk or Treat event this year!&nbsp\;
LOCATION:Riverwood Senior Living 115 Bowman Rd\, Wisconsin Dells\, WI 53965
UID:e.374.38914
SEQUENCE:3
DTSTAMP:20260423T033837Z
URL:http://chamber.portagewi.com/events/details/trunk-or-treat-at-riverwood-senior-living-wisconsin-dells-38914
END:VEVENT

END:VCALENDAR
