BEGIN:VCALENDAR
VERSION:2.0
PRODID:-//ChamberMaster//Event Calendar 2.0//EN
METHOD:PUBLISH
X-PUBLISHED-TTL:P3D
REFRESH-INTERVAL:P3D
CALSCALE:GREGORIAN
BEGIN:VEVENT
DTSTART:20251031T210000Z
DTEND:20251101T000000Z
X-MICROSOFT-CDO-ALLDAYEVENT:FALSE
SUMMARY:Truth & Treats - A Seek\, Knock\, Ask\, and Find Event
DESCRIPTION:Truth & Treats - A Seek\, Knock\, Ask\, and Find Event" will take place from 4:00-7:00 PM on Friday\, October 31\, 2025 at Grace Bible Church in Portage. This will be an indoor family-friendly space for refreshments\, games\, treats\, prizes\, and truth.
X-ALT-DESC;FMTTYPE=text/html:<span data-olk-copy-source="MessageBody" style="font-family: Aptos\, Aptos_EmbeddedFont\, Aptos_MSFontService\, Calibri\, Helvetica\, sans-serif\; font-size: 11pt\; color: rgb(0\, 0\, 0)\;">Truth &amp\; Treats - A Seek\, Knock\, Ask\, and Find Event&quot\; will take place from 4:00-7:00 PM on Friday\, October 31\, 2025 at Grace Bible Church in Portage. This will be an indoor family-friendly space for refreshments\, games\, treats\, prizes\, and truth.</span><!--EndFragment--><!--EndFragment-->
LOCATION:Grace Bible Church 2939 Hwy CX Portage\, WI 53901
UID:e.374.38945
SEQUENCE:3
DTSTAMP:20260423T044320Z
URL:http://chamber.portagewi.com/events/details/truth-treats-a-seek-knock-ask-and-find-event-38945
END:VEVENT

END:VCALENDAR
