BEGIN:VCALENDAR
VERSION:2.0
PRODID:-//ChamberMaster//Event Calendar 2.0//EN
METHOD:PUBLISH
X-PUBLISHED-TTL:P3D
REFRESH-INTERVAL:P3D
CALSCALE:GREGORIAN
BEGIN:VEVENT
DTSTART;VALUE=DATE:20190304
DTEND;VALUE=DATE:20190331
TRANSP:TRANSPARENT
X-MICROSOFT-CDO-ALLDAYEVENT:TRUE
SUMMARY:VIBE Salon Celebrates 10 Years!
DESCRIPTION:VIBE Salon & Spa is celebrating their 10-year anniversary the entire month of March. There will be a drawing for a gift basket and great specials! Take $10 off any color service over $60\, $10 off bodywrap and 10% off all in-stock retail.\n\n \n\nBrenda and her team thank you for supporting VIBA Salon & Spa\; they would not be able to accomplish this milestone without their guests.\n\n\n\nFor more information\, call VIBE Salon & Spa\, 218 W. Wisconsin St.\, at 608-742-8423.
X-ALT-DESC;FMTTYPE=text/html:<p><span style="font-size: 16px\;"><span style="font-family: arial\;"><span style="color: rgb(64\, 63\, 66)\;">VIBE Salon &amp\; Spa is celebrating their 10-year anniversary the entire month of March. There will be a drawing for a gift basket and great specials! Take $10 off any color service over $60\, $10 off bodywrap and 10% off all in-stock retail.</span><br />\n&nbsp\;<br />\n<span style="color: rgb(64\, 63\, 66)\;">Brenda and her team&nbsp\;thank you for supporting VIBA Salon &amp\; Spa\; they would not be able to accomplish this milestone without their guests.<br />\n<br />\nFor more information\, call VIBE Salon &amp\; Spa\, 218 W. Wisconsin St.\, at 608-742-8423.</span></span></span></p>\n
LOCATION:
UID:e.374.25732
SEQUENCE:3
DTSTAMP:20260421T215929Z
URL:http://chamber.portagewi.com/events/details/vibe-salon-celebrates-10-years-25732
END:VEVENT

END:VCALENDAR
