BEGIN:VCALENDAR
VERSION:2.0
PRODID:-//ChamberMaster//Event Calendar 2.0//EN
METHOD:PUBLISH
X-PUBLISHED-TTL:P3D
REFRESH-INTERVAL:P3D
CALSCALE:GREGORIAN
BEGIN:VEVENT
DTSTART;VALUE=DATE:20260310
DTEND;VALUE=DATE:20260315
TRANSP:TRANSPARENT
X-MICROSOFT-CDO-ALLDAYEVENT:TRUE
SUMMARY:VIBE Salon & Spa Celebrates 17 years
DESCRIPTION:VIBE Salon & Spa will be celebrating their 17th anniversary this March. They will be doing 17% off all retail items the week of March 10- 14th.
X-ALT-DESC;FMTTYPE=text/html:<span data-olk-copy-source="MailCompose" style="font-family: Calibri\, Helvetica\, sans-serif\; font-size: 12pt\; color: rgb(0\, 0\, 0)\;">VIBE Salon &amp\; Spa will be celebrating their 17th anniversary this March. They will be doing 17% off all retail items the week of March 10- 14th.&nbsp\;</span>
LOCATION:VIBE Salon & Spa 218 W. Wisconsin St. Portage\, WI 53901
UID:e.374.40114
SEQUENCE:3
DTSTAMP:20260422T193742Z
URL:http://chamber.portagewi.com/events/details/vibe-salon-spa-celebrates-17-years-40114
END:VEVENT

END:VCALENDAR
