BEGIN:VCALENDAR
VERSION:2.0
PRODID:-//ChamberMaster//Event Calendar 2.0//EN
METHOD:PUBLISH
X-PUBLISHED-TTL:P3D
REFRESH-INTERVAL:P3D
CALSCALE:GREGORIAN
BEGIN:VEVENT
DTSTART:20190330T170000Z
DTEND:20190330T200000Z
X-MICROSOFT-CDO-ALLDAYEVENT:FALSE
SUMMARY:Vietnam Veterans Day Celebration at VFW
DESCRIPTION:There will be a short program to recognize Vietnam Veterans. Will be a couple tables with information and some refreshments.
X-ALT-DESC;FMTTYPE=text/html:<span style="font-size: 16px\;"><span style="font-family: arial\;">There will be a short program to recognize Vietnam Veterans. Will be a couple tables with information and some refreshments.</span></span>
LOCATION:VFW Post 1707 215 W. Collins St.-(behind Walgreens) Portage\, Wi.
UID:e.374.25719
SEQUENCE:3
DTSTAMP:20260421T220552Z
URL:http://chamber.portagewi.com/events/details/vietnam-veterans-day-celebration-at-vfw-03-30-2019-25719
END:VEVENT

END:VCALENDAR
