BEGIN:VCALENDAR
VERSION:2.0
PRODID:-//ChamberMaster//Event Calendar 2.0//EN
METHOD:PUBLISH
X-PUBLISHED-TTL:P3D
REFRESH-INTERVAL:P3D
CALSCALE:GREGORIAN
BEGIN:VEVENT
DTSTART:20251108T150000Z
DTEND:20251108T200000Z
X-MICROSOFT-CDO-ALLDAYEVENT:FALSE
SUMMARY:Warrior Holiday Bazaar
DESCRIPTION:Please join us for our annual Christmas Craft Market! Indulge in a festive wonderland of creativity and cheer! Discover a delightful array of handcrafted treasures from local artisans and vendors\, each offering unique gifts and holiday decorations to make your season merry and bright! All proceeds will go to the Portage High School special education departments!\n\n\n\nFeaturing 40+ vendors\, food truck\, hot coffee/cocoa truck\, basket raffle\, Santa drop-in\, family photo op! \n\nIf you are interested donating an item\, service\, or gift certificate to our basket raffle or being a vendor booth for this event\, please send an email to Whitney Colby (colbyw@portage.k12.wi.us) or Alesia Royem (royema@portage.k12.wi.us).  We look forward to hosting you!
X-ALT-DESC;FMTTYPE=text/html:<div class="x_elementToProof" style="border: 0px\; font-variant-numeric: inherit\; font-variant-east-asian: inherit\; font-variant-alternates: inherit\; font-variant-position: inherit\; font-stretch: inherit\; font-size: 12pt\; line-height: inherit\; font-family: Calibri\, Helvetica\, sans-serif\; font-optical-sizing: inherit\; font-kerning: inherit\; font-feature-settings: inherit\; font-variation-settings: inherit\; margin: 0px\; padding: 0px\; vertical-align: baseline\; color: rgb(0\, 0\, 0)\;"><span style="font-size:14px\;"><span style="font-family:arial\;">Please join us for our annual Christmas Craft Market! Indulge in a festive wonderland of creativity and cheer! Discover a delightful array of handcrafted treasures from local artisans and vendors\, each offering unique gifts and holiday decorations to make your season merry and bright! All proceeds will go to the Portage High School special education departments!</span></span><br />\n<br />\nFeaturing 40+ vendors\, food truck\, hot coffee/cocoa truck\, basket raffle\, Santa drop-in\, family photo op!&nbsp\;</div>\n\n<div class="x_elementToProof" style="border: 0px\; font-variant-numeric: inherit\; font-variant-east-asian: inherit\; font-variant-alternates: inherit\; font-variant-position: inherit\; font-stretch: inherit\; font-size: 12pt\; line-height: inherit\; font-family: Calibri\, Helvetica\, sans-serif\; font-optical-sizing: inherit\; font-kerning: inherit\; font-feature-settings: inherit\; font-variation-settings: inherit\; margin: 0.5em 0px 0px\; padding: 0px\; vertical-align: baseline\; color: rgb(0\, 0\, 0)\;"><span style="font-size:14px\;"><span style="font-family:arial\;">If you are interested d</span></span><span style="font-family: arial\; font-size: 14px\;">onating&nbsp\;an item\, service\, or gift certificate to our basket raffle or being&nbsp\;</span><span style="font-family: arial\; font-size: 14px\;">a vendor booth for this event\, please send an email to </span><span style="font-family: arial\; font-size: 14px\; color: rgb(8\, 8\, 9)\; white-space-collapse: preserve\;">Whitney Colby (colbyw@portage.k12.wi.us) or Alesia Royem (royema@portage.k12.wi.us). </span><span style="font-family: arial\; font-size: 14px\;">&nbsp\;We look forward to hosting you!&nbsp\;</span></div>\n\n<div class="x_elementToProof" style="border: 0px\; font-variant-numeric: inherit\; font-variant-east-asian: inherit\; font-variant-alternates: inherit\; font-variant-position: inherit\; font-stretch: inherit\; font-size: 12pt\; line-height: inherit\; font-family: Calibri\, Helvetica\, sans-serif\; font-optical-sizing: inherit\; font-kerning: inherit\; font-feature-settings: inherit\; font-variation-settings: inherit\; margin: 0.5em 0px 0px\; padding: 0px\; vertical-align: baseline\; color: rgb(0\, 0\, 0)\;"><br />\n<br />\n&nbsp\;</div>\n
LOCATION:Portage High School Gymnasium 305 East Slifer Street Portage\, WI 53901
UID:e.374.38831
SEQUENCE:3
DTSTAMP:20260423T015628Z
URL:http://chamber.portagewi.com/events/details/warrior-holiday-bazaar-38831
END:VEVENT

END:VCALENDAR
