BEGIN:VCALENDAR
VERSION:2.0
PRODID:-//ChamberMaster//Event Calendar 2.0//EN
METHOD:PUBLISH
X-PUBLISHED-TTL:P3D
REFRESH-INTERVAL:P3D
CALSCALE:GREGORIAN
BEGIN:VEVENT
DTSTART:20230702T000000Z
DTEND:20230702T033000Z
X-MICROSOFT-CDO-ALLDAYEVENT:FALSE
SUMMARY:Watch the Portage Fireworks Display
DESCRIPTION:Watch the Portage Fireworks display from the Cross of Christ Church parking lot.  Bring your lawn chairs & blankets and set up anywhere you would like in the church yard.  There will be outdoor games\, FREE ice cream & popcorn.  Restrooms will be available to use.
X-ALT-DESC;FMTTYPE=text/html:Watch the Portage Fireworks display from the Cross of Christ Church parking lot.&nbsp\; Bring your lawn chairs &amp\; blankets and set up anywhere you would like in the church yard.&nbsp\; There will be outdoor games\, FREE ice cream &amp\; popcorn.&nbsp\; Restrooms will be available to use.&nbsp\;&nbsp\;
LOCATION:585 E. Slifer Street Portage\, WI
UID:e.374.32868
SEQUENCE:3
DTSTAMP:20260425T003713Z
URL:http://chamber.portagewi.com/events/details/watch-the-portage-fireworks-display-32868
END:VEVENT

END:VCALENDAR
