BEGIN:VCALENDAR
VERSION:2.0
PRODID:-//ChamberMaster//Event Calendar 2.0//EN
METHOD:PUBLISH
X-PUBLISHED-TTL:P3D
REFRESH-INTERVAL:P3D
CALSCALE:GREGORIAN
BEGIN:VEVENT
DTSTART;VALUE=DATE:20251018
DTEND;VALUE=DATE:20251019
TRANSP:TRANSPARENT
X-MICROSOFT-CDO-ALLDAYEVENT:TRUE
SUMMARY:Watercolor Painting Class at Mercantile
DESCRIPTION:Watercolor Class with Kathleen Jahn.\n\nSaturday\, October 18. 1:00 pm.\n\n\n\nDue to circumstances beyond my control\, I had to cancel this class last fall. Let's try it again!\n\nBack by popular demand.\n\nIn this class\, you will create a dramatic painting of autumn birch trees in watercolor. All supplies provided.\n\n$40 fee. Limited to 6 adults.\n\nContact the Mercantile to register. 608-745-5768
X-ALT-DESC;FMTTYPE=text/html:Watercolor Class with Kathleen Jahn.<br />\nSaturday\, October 18. 1:00 pm.<br />\n<br />\nDue to circumstances beyond my control\, I had to cancel this class last fall. Let&rsquo\;s try it again!<br />\nBack by popular demand.<br />\nIn this class\, you will create a dramatic painting of autumn birch trees in watercolor. All supplies provided.<br />\n$40 fee. Limited to 6 adults.<br />\nContact the Mercantile to register. 608-745-5768<br />\n<br />\n<br />\n<br />\n&nbsp\;
LOCATION:Mercantile 117 West Cook Street Portage\, WI 53901 745-5768
UID:e.374.38950
SEQUENCE:3
DTSTAMP:20260423T033505Z
URL:http://chamber.portagewi.com/events/details/watercolor-painting-class-at-mercantile-38950
END:VEVENT

END:VCALENDAR
