BEGIN:VCALENDAR
VERSION:2.0
PRODID:-//ChamberMaster//Event Calendar 2.0//EN
METHOD:PUBLISH
X-PUBLISHED-TTL:P3D
REFRESH-INTERVAL:P3D
CALSCALE:GREGORIAN
BEGIN:VEVENT
DTSTART:20190318T163000Z
DTEND:20190318T173000Z
X-MICROSOFT-CDO-ALLDAYEVENT:FALSE
SUMMARY:Wauona Trail Women's Club Meeting
DESCRIPTION:Join the Wauona Trail Women's Club for their monthly meeting. \n\nWomen are encouraged to join and participate in the club. \n\nMembership is $10 per year and you pay for your own meal at the restaurant.   \n\n\n\nOnly guests need to make a reservation for this meeting before March 14th by calling: Sherry 742-4067\, Veronica 617-9139\, or Sue 608-244-1472.\n\nKelly Krueger of Retirement Specialists will be sharing her work for Seniors in the area.
X-ALT-DESC;FMTTYPE=text/html:<span style="font-family: arial\;"><span style="font-size: 16px\;">Join the Wauona Trail Women&#39\;s Club for their monthly meeting.&nbsp\;<br />\nWomen are encouraged to join and participate&nbsp\;in the club.&nbsp\;<br />\nMembership is $10 per year and you pay for&nbsp\;your own meal at the restaurant.&nbsp\;&nbsp\; </span></span><br />\n<br />\n<span style="font-size: medium\;"><span style="font-family: times new roman\;"><span style="font-family: arial\;"><span style="font-size: 16px\;">Only guests need to make a reservation for this meeting before March 14th by calling: Sherry 742-4067\, Veronica 617-9139\, or Sue 608-244-1472.<br />\nKelly Krueger of Retirement&nbsp\;Specialists&nbsp\;will be sharing her work for Seniors in the area.</span></span></span></span><br />\n<br />\n&nbsp\;
LOCATION:
UID:e.374.24657
SEQUENCE:3
DTSTAMP:20260421T222424Z
URL:http://chamber.portagewi.com/events/details/wauona-trails-women-s-club-meeting-03-18-2019-24657
END:VEVENT

END:VCALENDAR
