BEGIN:VCALENDAR
VERSION:2.0
PRODID:-//ChamberMaster//Event Calendar 2.0//EN
METHOD:PUBLISH
X-PUBLISHED-TTL:P3D
REFRESH-INTERVAL:P3D
CALSCALE:GREGORIAN
BEGIN:VEVENT
DTSTART:20250902T140000Z
DTEND:20251006T210000Z
X-MICROSOFT-CDO-ALLDAYEVENT:FALSE
SUMMARY:Winter Coat Drive
DESCRIPTION:Accepting any gently used or new coats\, snow pants\, hats\, gloves/mittens\, scarves\, and boots for all ages. \n\nFor more information or to arrange for a pick up call: Antwan 608-617-3955
X-ALT-DESC;FMTTYPE=text/html:Accepting any gently used or new coats\, snow pants\, hats\, gloves/mittens\, scarves\, and boots for all ages.&nbsp\;<br />\nFor more information or to arrange for a pick up call: Antwan 608-617-3955
LOCATION:Drop off location in the Children's Department at the Portage Public Library 253 W Edgewater Street\, Portage\, WI 53901
UID:e.374.38905
SEQUENCE:3
DTSTAMP:20260423T033028Z
URL:http://chamber.portagewi.com/events/details/winter-coat-drive-38905
END:VEVENT

END:VCALENDAR
