BEGIN:VCALENDAR
VERSION:2.0
PRODID:-//ChamberMaster//Event Calendar 2.0//EN
METHOD:PUBLISH
X-PUBLISHED-TTL:P3D
REFRESH-INTERVAL:P3D
CALSCALE:GREGORIAN
BEGIN:VEVENT
DTSTART;VALUE=DATE:20190330
DTEND;VALUE=DATE:20190331
TRANSP:TRANSPARENT
X-MICROSOFT-CDO-ALLDAYEVENT:TRUE
SUMMARY:Wisconsin Association of Railroad Passengers Meeting
DESCRIPTION:Wisconsin Association of Railroad Passengers\n\nSpring General Membership Meeting\n\nSaturday\, March 30\, 2019\n\nDino's Restaurant \n\n2900 New Pinery Rd\n\nPortage\, WI   \n\n \n\nMorning Agenda is FREE and open to the public!  Register today! \n\nMain Topic:  Twin Cities- Milwaukee- Chicago (TCMC) daily train\n\n \n\nMorning Speakers\n\n10:00am John Parkyn\, WisARP President &\n\nDerrick James\, Senior Manager\, State Relations and Business Development\, Amtrak\, Chicago. \n\n11:00am Arun Rao\, Passenger Rail Implementation Manager\, WisDOT \n\nStatus and NEW UPDATES (!) of passenger rail projects in Wisconsin\n\n \n\nOR - Attend the full day!  Meeting fee includes lunch and afternoon speakers\n\nFeaturing Steve Sobiek\, Business Development & Planning\, City of Portage &\n\nJerry Radliff All Aboard Minnesota\; updating numerous Minnesota activities\n\n \n\nPlease register to allow seating for all who wish to attend.\n\nhttp://reg.planetReg.com/E3410575228150\n\n \n\nFee = $25 if registered online by March 23.\n\nFee = $35 after March 23\n\nFor questions\, 414-541-1112 or  weitenbeck@sbcglobal.net
X-ALT-DESC;FMTTYPE=text/html:<p><span style="font-size: 16px\;"><u><strong>Wisconsin Association of Railroad Passengers</strong></u><br />\nSpring General Membership Meeting<br />\nSaturday\, March 30\, 2019<br />\nDino&rsquo\;s Restaurant&nbsp\;<br />\n2900 New Pinery Rd<br />\nPortage\, WI&nbsp\;&nbsp\;&nbsp\;<br />\n&nbsp\;<br />\n<strong><u>Morning Agenda is FREE and open to the public!</u></strong>&nbsp\; Register today!&nbsp\;<br />\nMain Topic:&nbsp\; Twin Cities- Milwaukee- Chicago (TCMC) daily train<br />\n&nbsp\;<br />\n<strong>Morning Speakers</strong><br />\n10:00am John Parkyn\, WisARP President &amp\;<br />\n<strong><u>Derrick James</u>\,</strong> Senior Manager\,&nbsp\;State Relations and Business Development\, Amtrak\, Chicago.&nbsp\;<br />\n11:00am <strong><u>Arun Rao</u></strong>\, Passenger Rail Implementation Manager\, WisDOT&nbsp\;<br />\nStatus and NEW UPDATES (!) of passenger rail projects in Wisconsin<br />\n&nbsp\;<br />\n<span style="background: lightgrey\;">OR - Attend the full day!&nbsp\; Meeting fee includes lunch and afternoon speakers</span><br />\n<span style="background: lightgrey\;">Featuring </span><strong><span style="background: lightgrey\;">Steve Sobiek</span></strong><span style="background: lightgrey\;">\,</span> <span style="background: lightgrey\;">Business Development &amp\; Planning\, City of Portage &amp\;</span><br />\n<strong><span style="background: lightgrey\;">Jerry Radliff </span></strong><span style="background: lightgrey\;">All Aboard Minnesota\; updating numerous Minnesota activities</span><br />\n&nbsp\;<br />\nPlease register to allow seating for all who wish to attend.<br />\n<a href="http://reg.planetreg.com/E3410575228150" target="_new"><span style="color: rgb(0\, 0\, 255)\;">http://reg.planetReg.com/E3410575228150</span></a><br />\n&nbsp\;<br />\n<span style="font-family: arial\,sans-serif\;">Fee = $25 if registered online by March 23.</span><br />\n<span style="font-family: arial\,sans-serif\;">Fee = $35 after March 23</span></span></p>\n\n<p><span style="font-size: 16px\;">For questions\, 414-541-1112 or&nbsp\; <span style="color: windowtext\;"><a href="mailto:weitenbeck@sbcglobal.net"><span style="color: windowtext\;">weitenbeck@sbcglobal.net</span></a></span> </span><br />\n<br />\n&nbsp\;</p>\n
LOCATION:
UID:e.374.25758
SEQUENCE:3
DTSTAMP:20260421T221921Z
URL:http://chamber.portagewi.com/events/details/wisconsin-association-of-railroad-passengers-meeting-25758
END:VEVENT

END:VCALENDAR
