BEGIN:VCALENDAR
VERSION:2.0
PRODID:-//ChamberMaster//Event Calendar 2.0//EN
METHOD:PUBLISH
X-PUBLISHED-TTL:P3D
REFRESH-INTERVAL:P3D
CALSCALE:GREGORIAN
BEGIN:VEVENT
DTSTART:20250816T190000Z
DTEND:20250816T210000Z
X-MICROSOFT-CDO-ALLDAYEVENT:FALSE
SUMMARY:Women’s Civic League Celebrates Zona Gale
DESCRIPTION:The Women's Civic League of Portage is celebrating Zona Gale on August 16\, 2025 from 2:00-4:00PM.  Come join us in our beautiful backyard setting of the Zona Gale home for PIE & ICE CREAM.  Free tours of the clubhouse will be going on during this time.  Susan Franklin will be serenading us with her beautiful voice.
X-ALT-DESC;FMTTYPE=text/html:<span style="font-size: 16px\;"><span style="font-family: arial\;">The Women&#39\;s Civic League of Portage is celebrating Zona Gale on August 16\, 2025 from 2:00-4:00PM.&nbsp\; Come join us in our beautiful backyard setting of the Zona Gale home for PIE &amp\; ICE CREAM.&nbsp\; Free tours of the clubhouse will be going on during this time.&nbsp\; Susan Franklin will be serenading us with her beautiful voice.&nbsp\;&nbsp\;</span></span>
LOCATION:Women's Civic League Home 506 West Edgewater Portage\, WI 53901
UID:e.374.37990
SEQUENCE:3
DTSTAMP:20260423T094320Z
URL:http://chamber.portagewi.com/events/details/women-s-civic-league-celebrates-zona-gale-37990
END:VEVENT

END:VCALENDAR
