BEGIN:VCALENDAR
VERSION:2.0
PRODID:-//ChamberMaster//Event Calendar 2.0//EN
METHOD:PUBLISH
X-PUBLISHED-TTL:P3D
REFRESH-INTERVAL:P3D
CALSCALE:GREGORIAN
BEGIN:VEVENT
DTSTART:20200929T230000Z
DTEND:20200930T000000Z
X-MICROSOFT-CDO-ALLDAYEVENT:FALSE
SUMMARY:Zona Gale: a presentation by Judy Eulberg
DESCRIPTION:Join us as Judy Eulberg leads us in a presentation about Zona Gale Portage native and first woman to win the Pulitzer Prize for drama in 1921. This presentation will be held at the library on Tuesday\, September 29 from 6-7 pm. Please register in advance for this event. To register\, call (608) 742-4959 or email programs@portagelibrary.us. This presentation will also be recorded and shared on our YouTube channel and Facebook event page.
X-ALT-DESC;FMTTYPE=text/html:Join us as Judy Eulberg leads us in a presentation about Zona Gale&mdash\;Portage native and first woman to win the Pulitzer Prize for drama in 1921. This presentation will be held at the library on Tuesday\, September 29 from 6-7 pm. Please register in advance for this event. To register\, call (608) 742-4959 or email programs@portagelibrary.us. This presentation will also be recorded and shared on our YouTube channel and Facebook event page.
LOCATION:Portage Public Library\, 253 W Edgewater St
UID:e.374.27824
SEQUENCE:3
DTSTAMP:20260421T122611Z
URL:http://chamber.portagewi.com/events/details/zona-gale-a-presentation-by-judy-eulberg-27824
END:VEVENT

END:VCALENDAR
