BEGIN:VCALENDAR
VERSION:2.0
PRODID:-//ChamberMaster//Event Calendar 2.0//EN
METHOD:PUBLISH
X-PUBLISHED-TTL:P3D
REFRESH-INTERVAL:P3D
CALSCALE:GREGORIAN
BEGIN:VEVENT
DTSTART:20260517T210000Z
DTEND:20260517T223000Z
X-MICROSOFT-CDO-ALLDAYEVENT:FALSE
SUMMARY:Zona Gale Singers Concert
DESCRIPTION:Zona Gale Singers Annual Spring Concert at 4pm in the Zona Gale Theatre at Portage Center for the Arts. $10 advance or at the door. General admission.
X-ALT-DESC;FMTTYPE=text/html:Zona Gale Singers Annual Spring Concert at 4pm in the Zona Gale Theatre at Portage Center for the Arts. $10 advance or at the door. General admission. &nbsp\;<br />\n<br />\n<br />\n&nbsp\;
LOCATION:Portage Center for the Arts 301 E. Cook St. Portage\, WI 53901
UID:e.374.40096
SEQUENCE:3
DTSTAMP:20260422T210230Z
URL:http://chamber.portagewi.com/events/details/zona-gale-singers-concert-40096
END:VEVENT

END:VCALENDAR
