BEGIN:VCALENDAR
VERSION:2.0
PRODID:-//ChamberMaster//Event Calendar 2.0//EN
METHOD:PUBLISH
X-PUBLISHED-TTL:P3D
REFRESH-INTERVAL:P3D
CALSCALE:GREGORIAN
BEGIN:VEVENT
DTSTART:20121006T140000Z
DTEND:20121006T200000Z
X-MICROSOFT-CDO-ALLDAYEVENT:FALSE
SUMMARY:2012 Portage Fall Craft Sale & Holiday Market
DESCRIPTION:Please join us for a day of fall fun and shopping featuring arts\, crafts and other fun gift ideas!\n\n\n\nFall bake sale and pumpkin pie eating contest: Please donate your baked goods to benefit Portage Parks. Enter your best pumpkin pie recipe for a chance at a prize! As part of the bake sale\, pumpkin pie will be sold by the slice and judged by your peers. Votes will be tallied and a prize awarded at 2pm. If you would like to enter a pie\, please contact us for a registration form.\n\n\n\nVendor info:\n\nFriday night setup from 6 to 8pm\n\nWe welcome artisans\, crafters\, direct sales vendors\, and other vendors selling new items.\n\nAdvance registration only. Please contact us to obtain a registration form. Registration forms and fees will be due Sept. 28. Vendors will be required to donate a baked item for the bake sale or a pie to the pumpkin pie contest. Baked goods may be home baked or store bought. Pies must be home baked. Registrations may be accepted after this deadline based on availability. Please contact us for details.\n\nBooth spaces 15x10 ft. - $10\n\nPortage Parks and Recreation\, 806 Silver Lake Dr. \n\nportagecityevents@gmail.com
X-ALT-DESC;FMTTYPE=text/html:Please join us for a day of fall fun and shopping featuring arts\, crafts and other fun gift ideas!<br />\n<br />\nFall bake sale and pumpkin pie eating contest: Please donate your baked goods to benefit Portage Parks. Enter your best pumpkin pie recipe for a chance at a prize! As part of the bake sale\, pumpkin pie will be sold by the slice and judged by your peers. Votes will be tallied and a prize awarded at 2pm. If you would like to enter a pie\, please contact us for a registration form.<br />\n<br />\n<u><strong>Vendor info:</strong></u><br />\nFriday night setup from 6 to 8pm<br />\nWe welcome artisans\, crafters\, direct sales vendors\, and other vendors selling new items.<br />\nAdvance registration only. Please contact us to obtain a registration form. Registration forms and fees will be due Sept. 28. Vendors will be required to donate a baked item for the bake sale or a pie to the pumpkin pie contest. Baked goods may be home baked or store bought. Pies must be home baked. Registrations may be accepted after this deadline based on availability. Please contact us for details.<br />\nBooth spaces 15x10 ft. - $10<br />\nPortage Parks and Recreation\, 806 Silver Lake Dr.&nbsp\;<br />\n<a href="mailto:Drive--608-742-2178--portagecityevents@gmail.com">portagecityevents@gmail.com</a><br />\n<br />\n<br />\n
LOCATION:Columbia County Fairgrounds 300 Superior St.
UID:e.374.6976
SEQUENCE:3
DTSTAMP:20260423T115451Z
URL:https://chamber.portagewi.com/events/details/2012-portage-fall-craft-sale-holiday-market-10-06-2012-6976
END:VEVENT

END:VCALENDAR
