BEGIN:VCALENDAR
VERSION:2.0
PRODID:-//ChamberMaster//Event Calendar 2.0//EN
METHOD:PUBLISH
X-PUBLISHED-TTL:P3D
REFRESH-INTERVAL:P3D
CALSCALE:GREGORIAN
BEGIN:VEVENT
DTSTART;VALUE=DATE:20201014
DTEND;VALUE=DATE:20201015
TRANSP:TRANSPARENT
X-MICROSOFT-CDO-ALLDAYEVENT:TRUE
SUMMARY:Annual Meeting Friends of the Portage Library
DESCRIPTION:Make a Difference - Connect with the Library!\n\nJoin the Friends of the Portage Public Library \n\nAnnual Meeting is scheduled for Wednesday\, October 14\, 6 p.m. at the library.\n\nLooking to select a new Friends President!\n\nFriends Annual Membership - $10\n\nFor more information contact Linda Floeter\, \n\ncurrent Friends President (linda@portagelibrary.us).\n\nGet out of the house and get involved.
X-ALT-DESC;FMTTYPE=text/html:<p><span style="font-size:14px\;"><span style="font-family:arial\;"><strong><span style="color:black\;">Make a Difference - Connect with the Library!</span></strong><br />\n<span style="color:black\;">Join the Friends of the Portage Public Library </span><br />\n<strong><em><span style="color:black\;">Annual Meeting is scheduled for Wednesday\, October 14\, 6 p.m. at the library.</span></em><br />\n<em><span style="color:black\;">Looking to select a new Friends President!</span></em></strong><br />\n<span style="background:white\;"><span style="color:black\;">Friends Annual Membership - $10</span></span><br />\n<span style="color:black\;">For more information contact Linda Floeter\,&nbsp\;</span><br />\n<span style="color:black\;">current Friends President (<a href="mailto:linda@portagelibrary.us">linda@portagelibrary.us</a>).</span><br />\n<span style="color:black\;">Get out of the house and get involved.</span><br />\n&nbsp\;</span></span></p>\n
LOCATION:
UID:e.374.27915
SEQUENCE:3
DTSTAMP:20260422T090449Z
URL:https://chamber.portagewi.com/events/details/annual-meeting-friends-of-the-portage-library-27915
END:VEVENT

END:VCALENDAR
