BEGIN:VCALENDAR
VERSION:2.0
PRODID:-//ChamberMaster//Event Calendar 2.0//EN
METHOD:PUBLISH
X-PUBLISHED-TTL:P3D
REFRESH-INTERVAL:P3D
CALSCALE:GREGORIAN
BEGIN:VEVENT
DTSTART:20130910T220000Z
DTEND:20130911T000000Z
X-MICROSOFT-CDO-ALLDAYEVENT:FALSE
SUMMARY:Business After 5 - Portage Center for the Arts
DESCRIPTION:Join fellow Chamber members for networking\, conversation and refreshments at our monthly Business After Five. Hosted by Portage Center for the Arts.
X-ALT-DESC;FMTTYPE=text/html:<p>\n	Join fellow Chamber members for networking\, conversation and refreshments at our monthly Business After Five. Hosted by Portage Center for the Arts.</p>\n
LOCATION:Portage Center for the Arts 301 E Cook St.
UID:e.374.7606
SEQUENCE:3
DTSTAMP:20260423T055044Z
URL:https://chamber.portagewi.com/events/details/business-after-5-portage-center-for-the-arts-09-10-2013-7606
END:VEVENT

END:VCALENDAR
