BEGIN:VCALENDAR
VERSION:2.0
PRODID:-//ChamberMaster//Event Calendar 2.0//EN
METHOD:PUBLISH
X-PUBLISHED-TTL:P3D
REFRESH-INTERVAL:P3D
CALSCALE:GREGORIAN
BEGIN:VEVENT
DTSTART:20110913T220000Z
DTEND:20110914T000000Z
X-MICROSOFT-CDO-ALLDAYEVENT:FALSE
SUMMARY:Business After 5 - Portage Center for the Arts & Konica Minolta
DESCRIPTION:Join fellow Chamber members for networking\, conversation and refreshments at our monthly Business After Five. Hosted by Portage Center for the Arts and Konica Minolta Business Solutions.\n\n	\n\n	The Center for the Arts is located at 301 E. Cook Street in Portage.
X-ALT-DESC;FMTTYPE=text/html:<div>\n	Join fellow Chamber members for networking\, conversation and refreshments at our monthly Business After Five. Hosted by Portage Center for the Arts and Konica Minolta Business Solutions.<br />\n	<br />\n	The Center for the Arts is&nbsp\;located at 301 E. Cook Street in Portage.<br />\n	<br />\n	&nbsp\;</div>\n
LOCATION:Portage Center for the Arts 301 E. Cook Street Portage 608-742-5655
UID:e.374.3801
SEQUENCE:3
DTSTAMP:20260422T192204Z
URL:https://chamber.portagewi.com/events/details/business-after-5-portage-center-for-the-arts-konica-minolta-09-13-2011-3801
END:VEVENT

END:VCALENDAR
