BEGIN:VCALENDAR
VERSION:2.0
PRODID:-//ChamberMaster//Event Calendar 2.0//EN
METHOD:PUBLISH
X-PUBLISHED-TTL:P3D
REFRESH-INTERVAL:P3D
CALSCALE:GREGORIAN
BEGIN:VEVENT
DTSTART:20120523T233000Z
DTEND:20120524T010000Z
X-MICROSOFT-CDO-ALLDAYEVENT:FALSE
SUMMARY:Historic Preservation Commission Program at the Museum at the Portage
DESCRIPTION:Historic Preservation Commission Program at the Museum at the Portage\n\n804 MacFarlane Road\n\n\n\nJen Davel\, WI Historical Society Preservation architect will speak on "Historic Storefronts and Windows: A Brief History and Guidelines for Restoration"\n\nDoors open at 6:30 PM with the program at 7 PM. Refreshments will be served.\n\n\n\n608-742-6682\n\n\n\nTour Hours: April\, May\, September and October Thursday-Saturday 1-4 PM. \n\nJune through August Tuesday-Saturday 1-4 PM.
X-ALT-DESC;FMTTYPE=text/html:<span style="font-size: 12px"><span style="font-family: arial">Historic Preservation Commission Program at the Museum at the Portage<br />\n804 MacFarlane Road<br />\n<br />\nJen Davel\, WI Historical Society Preservation architect will speak on &quot\;Historic Storefronts and Windows: A Brief History and Guidelines for Restoration&quot\;<br />\nDoors open at 6:30 PM with the program at 7 PM. Refreshments will be served.<br />\n<br />\n608-742-6682<br />\n<br />\nTour&nbsp\;Hours: April\, May\, September and October Thursday-Saturday 1-4 PM.&nbsp\;<br />\nJune through August Tuesday-Saturday 1-4 PM.<br />\n&nbsp\;</span></span>
LOCATION:
UID:e.374.6770
SEQUENCE:3
DTSTAMP:20260423T040758Z
URL:https://chamber.portagewi.com/events/details/historic-preservation-commission-program-at-the-museum-at-the-portage-05-23-2012-6770
END:VEVENT

END:VCALENDAR
