BEGIN:VCALENDAR
VERSION:2.0
PRODID:-//ChamberMaster//Event Calendar 2.0//EN
METHOD:PUBLISH
X-PUBLISHED-TTL:P3D
REFRESH-INTERVAL:P3D
CALSCALE:GREGORIAN
BEGIN:VEVENT
DTSTART;VALUE=DATE:20181207
DTEND;VALUE=DATE:20181210
TRANSP:TRANSPARENT
X-MICROSOFT-CDO-ALLDAYEVENT:TRUE
SUMMARY:Junior Nationals Qualifying Bonspiel
DESCRIPTION:Teams from all over the United States are participating in this last of four qualifying events. At least two junior men's and two junior women's teams will earn a spot at Junior Nationals where the winner of that championship will represent the US at the World Junior Curling Championships in Liverpool\, Nova Scotia.\n\n\n\nCall Vietta Kampen at 608-697-6510 for information.
X-ALT-DESC;FMTTYPE=text/html:<span style="font-size: 16px\;"><span style="font-family: arial\;">Teams from all over the United States are participating in this last of four qualifying events. At least two junior men&#39\;s and two junior women&#39\;s teams will earn a spot at Junior Nationals where the winner of that championship will represent the US at the World Junior Curling Championships in Liverpool\, Nova Scotia.<br />\n<br />\nCall&nbsp\;Vietta Kampen at 608-697-6510 for information.</span></span>\n\n<p><br />\n<br />\n&nbsp\;</p>\n
LOCATION:Portage Curling Club 107 West Albert Street
UID:e.374.24406
SEQUENCE:3
DTSTAMP:20260425T005307Z
URL:https://chamber.portagewi.com/events/details/junior-nationals-qualifying-bonspiel-24406
END:VEVENT

END:VCALENDAR
