BEGIN:VCALENDAR
VERSION:2.0
PRODID:-//ChamberMaster//Event Calendar 2.0//EN
METHOD:PUBLISH
X-PUBLISHED-TTL:P3D
REFRESH-INTERVAL:P3D
CALSCALE:GREGORIAN
BEGIN:VEVENT
DTSTART:20121208T170000Z
DTEND:20121209T050000Z
X-MICROSOFT-CDO-ALLDAYEVENT:FALSE
SUMMARY:Portage Community Fundraiser for Hurricane Sandy Relief
DESCRIPTION:A Portage Community Fundraiser to raise money to bring hope and renew lives for Sandy's victims will be held on Saturday\, December 8 at the VFW Post 1707 located behind Walgreen's on New Pinery Rd. \n\n\n\nCome to the VFW to socialize\, buy some baked goods\, enter raffles\, have a sandwich\, and listen to some good music. A bake sale kicks off the event at 11am.\n\n\n\nEnjoy live music all day from local musicians:\n\nMichelle DuVall & Doug Brown   2pm-4pm\n\nPortage High School Jazz Ensemble   4pm-6pm\n\nMaestro Fuzz performing from 8pm to 11pm.\n\nMore musicians may be scheduled.\n\n\n\nFree admission. All proceeds will be donated to the American Red Cross-Sandy relief fund. For more information call the Portage Area Chamber of Commerce at 608-742-6242.
X-ALT-DESC;FMTTYPE=text/html:<span style="font-size: small"><span style="font-family: arial"><span style="font-size: 10pt"><span style="font-family: arial">A Portage Community Fundraiser to raise money to bring hope and renew lives for Sandy&#39\;s victims will be held on Saturday\, December 8 at the VFW Post 1707 located behind Walgreen&#39\;s on New Pinery Rd.&nbsp\;<br />\n<br />\nCome to the VFW to socialize\, buy some baked goods\, enter raffles\, have a sandwich\, and listen to some good music. A bake sale kicks off the event at 11am.<br />\n<br />\nEnjoy live music all day from local musicians:<br />\nMichelle DuVall &amp\; Doug Brown&nbsp\;&nbsp\; 2pm-4pm<br />\nPortage High School Jazz Ensemble&nbsp\;&nbsp\; 4pm-6pm<br />\nMaestro Fuzz performing from 8pm to 11pm.<br />\nMore musicians may be scheduled.<br />\n<br />\nFree admission. All proceeds will be donated to the American Red Cross-Sandy relief fund. For more information call the Portage Area Chamber of Commerce at 608-742-6242.&nbsp\;</span></span></span></span><br />\n
LOCATION:VFW Post 1707 located behind Walgreen's on the corner of New Pinery Rd. and Collins St.
UID:e.374.7576
SEQUENCE:3
DTSTAMP:20260423T145948Z
URL:https://chamber.portagewi.com/events/details/portage-community-fundraiser-for-hurricane-sandy-relief-12-08-2012-7576
END:VEVENT

END:VCALENDAR
