BEGIN:VCALENDAR
VERSION:2.0
PRODID:-//ChamberMaster//Event Calendar 2.0//EN
METHOD:PUBLISH
X-PUBLISHED-TTL:P3D
REFRESH-INTERVAL:P3D
CALSCALE:GREGORIAN
BEGIN:VEVENT
DTSTART:20111001T140000Z
DTEND:20111001T200000Z
X-MICROSOFT-CDO-ALLDAYEVENT:FALSE
SUMMARY:Portage Fall Craft Sale and Holiday Market
DESCRIPTION:Join us for a day of fall fun and shopping featuring arts\, crafts and other fun gift ideas!\n\n\n\nFall Bake Sale and Pumpkin Pie Contest - donate your baked goods to benefit the Portage Splash Pad. Enter your best pumpkin pie recipe for a chance at a prize!\n\n\n\nAs part of the Bake Sale\, pumpkin pie will be sold by the slice and judged by your peers.  Votes will be tallied and prizes awarded at 2pm.\n\n\n\nIf you would like to register a pie\, please contact us for a registration form.\n\n\n\nVendor Information\n\nFriday Night set-up from 6pm-8pm.  Advance registration only.  Registration forms and fees are due by September 23rd to confrim your space.  Booth Spaces are 15 x 10 for $10. \n\n\n\nContact the Portage Park and Recreation Dept at 742-2178.
X-ALT-DESC;FMTTYPE=text/html:Join us for a day of fall fun and shopping featuring arts\, crafts and other fun gift ideas!<br />\n<br />\n<u><strong>Fall Bake Sale and Pumpkin Pie Contest - </strong></u>donate your baked goods to benefit the Portage Splash Pad. Enter your best pumpkin pie recipe for a chance at a prize!<br />\n<br />\nAs part of the Bake Sale\, pumpkin pie will be sold by the slice and judged by your peers.&nbsp\; Votes will be tallied and prizes awarded at 2pm.<br />\n<br />\nIf you would like to register a pie\, please contact us for a registration form.<br />\n<br />\n<u><strong>Vendor Information</strong></u><br />\nFriday Night set-up from 6pm-8pm.&nbsp\; Advance registration only.&nbsp\; Registration forms and fees are due by September 23rd to confrim your space.&nbsp\; Booth Spaces are 15 x 10 for $10.&nbsp\;<br />\n<br />\nContact the Portage Park and Recreation Dept at 742-2178.
LOCATION:Columbia County Fairgrounds 300 Superior Street (three blocks north of the A & W Root Beer stand)
UID:e.374.4081
SEQUENCE:3
DTSTAMP:20260422T173225Z
URL:https://chamber.portagewi.com/events/details/portage-fall-craft-sale-and-holiday-market-10-01-2011-4081
END:VEVENT

END:VCALENDAR
