BEGIN:VCALENDAR
VERSION:2.0
PRODID:-//ChamberMaster//Event Calendar 2.0//EN
METHOD:PUBLISH
X-PUBLISHED-TTL:P3D
REFRESH-INTERVAL:P3D
CALSCALE:GREGORIAN
BEGIN:VEVENT
DTSTART:20130509T170000Z
DTEND:20130509T230000Z
X-MICROSOFT-CDO-ALLDAYEVENT:FALSE
SUMMARY:Portage Farmers Market
DESCRIPTION:Farmers Market featuring home grown produce items\, homemade items\, and hand-crafted items.\n\n	\n\n	Print off your own applications below.\n\n	\n\n	2013 Application\n\n	\n\n	2013 Guidelines\n\n	\n\n	2013 Gazette
X-ALT-DESC;FMTTYPE=text/html:<div>\n	Farmers Market featuring home grown produce items\, homemade items\, and hand-crafted items.<br />\n	<br />\n	Print off your own applications below.<br />\n	<br />\n	<a href="http://cloud.chambermaster.com/userfiles/UserFiles/chambers/374/File/2013FarmersMarketApplication.pdf">2013 Application</a><br />\n	<br />\n	<a href="http://cloud.chambermaster.com/userfiles/UserFiles/chambers/374/File/2013FarmersMarketGuidelines.pdf">2013 Guidelines</a><br />\n	<br />\n	<a href="http://cloud.chambermaster.com/userfiles/UserFiles/chambers/374/File/2013FarmersMarketGazette.pdf">2013 Gazette</a><br />\n	<br />\n	<br />\n	&nbsp\;</div>\n
LOCATION:Commerce Plaza (corner of Cook and Wisconsin St. across from Theatre.)
UID:e.374.7657
SEQUENCE:3
DTSTAMP:20260423T115433Z
URL:https://chamber.portagewi.com/events/details/portage-farmers-market-05-09-2013-7657
END:VEVENT

END:VCALENDAR
