BEGIN:VCALENDAR
VERSION:2.0
PRODID:-//ChamberMaster//Event Calendar 2.0//EN
METHOD:PUBLISH
X-PUBLISHED-TTL:P3D
REFRESH-INTERVAL:P3D
CALSCALE:GREGORIAN
BEGIN:VEVENT
DTSTART:20130114T233000Z
DTEND:20130115T020000Z
X-MICROSOFT-CDO-ALLDAYEVENT:FALSE
SUMMARY:Portage Historical Society Annual Meeting
DESCRIPTION:Portage Historical Society Annual Meeting presents Jim Draeger\, author of "Bottoms Up: A Toast to Wisconsin's Bars & Breweries"\n\n\n\nThe dinner choices are tilapia\, swiss steak or baked chicken. All the meals are $15 and include non-alcoholic beverage\, dessert\, tax and tip. Reservations must be made by noon on Friday\, January 12 by calling Peg Amend at 429-9214 or Kathy Rowley at 697-9631.\n\n \n\nAttending the program only costs $5.
X-ALT-DESC;FMTTYPE=text/html:<span style="font-size: 14px"><span style="font-family: arial">Portage Historical Society Annual Meeting presents Jim Draeger\, author of &quot\;Bottoms Up: A Toast to Wisconsin&#39\;s Bars &amp\; Breweries&quot\;<br />\n<br />\nThe dinner choices are tilapia\, swiss steak or baked chicken. All the meals are $15 and include non-alcoholic beverage\, dessert\, tax and tip. Reservations must be made by noon on Friday\, January 12 by calling Peg Amend at 429-9214 or Kathy Rowley at 697-9631.<br />\n&nbsp\;<br />\nAttending the program only costs $5.</span></span><br />\n<br />\n<br />\n
LOCATION:Trail's Lounge Supper Club
UID:e.374.7611
SEQUENCE:3
DTSTAMP:20260423T164318Z
URL:https://chamber.portagewi.com/events/details/portage-historical-society-annual-meeting-01-14-2013-7611
END:VEVENT

END:VCALENDAR
