BEGIN:VCALENDAR
VERSION:2.0
PRODID:-//ChamberMaster//Event Calendar 2.0//EN
METHOD:PUBLISH
X-PUBLISHED-TTL:P3D
REFRESH-INTERVAL:P3D
CALSCALE:GREGORIAN
BEGIN:VEVENT
DTSTART;VALUE=DATE:20120120
DTEND;VALUE=DATE:20120123
TRANSP:TRANSPARENT
X-MICROSOFT-CDO-ALLDAYEVENT:TRUE
SUMMARY:Portage Junior Bonspiel
DESCRIPTION:
X-ALT-DESC;FMTTYPE=text/html:
LOCATION:Portage Curling Club 107 W. Albert St. Portage\, WI (608) 742-3237
UID:e.374.2412
SEQUENCE:3
DTSTAMP:20260422T215244Z
URL:https://chamber.portagewi.com/events/details/portage-junior-bonspiel-01-20-2012-2412
END:VEVENT

END:VCALENDAR
