BEGIN:VCALENDAR
VERSION:2.0
PRODID:-//ChamberMaster//Event Calendar 2.0//EN
METHOD:PUBLISH
X-PUBLISHED-TTL:P3D
REFRESH-INTERVAL:P3D
CALSCALE:GREGORIAN
BEGIN:VEVENT
DTSTART:20140827T180000Z
DTEND:20140827T200000Z
X-MICROSOFT-CDO-ALLDAYEVENT:FALSE
SUMMARY:Portage Memory Cafe
DESCRIPTION:A Memory Caf  is a social gathering place where individuals with memory loss\, mild cognitive impairment\, early Alzheimer's\, or other dementias\, can come together. The caf  meets monthly to visit\, share common interests\, and enjoy refreshments. Each caf  is unique and offers a program or activity that?s fun and chosen by participants? interests. Family and friends are encouraged to come. If you require assistance to participate\, please have someone accompany you. Hosted by the Alzheimer's & Dementia Alliance of Wisconsin (ADAW). Contact Janet Wiegel\, Outreach Specialist\, at 608.742.9055 for more information.
X-ALT-DESC;FMTTYPE=text/html:A Memory Caf&eacute\; is a social gathering place where individuals with memory loss\, mild cognitive impairment\, early Alzheimer&#39\;s\, or other dementias\, can come together. The caf&eacute\; meets monthly to visit\, share common interests\, and enjoy refreshments. Each caf&eacute\; is unique and offers a program or activity that?s fun and chosen by participants? interests. Family and friends are encouraged to come. If you require assistance to participate\, please have someone accompany you. Hosted by the Alzheimer&#39\;s &amp\; Dementia Alliance of Wisconsin (ADAW). Contact Janet Wiegel\, Outreach Specialist\, at 608.742.9055 for more information.
LOCATION:Portage Public Library 253 W. Edgewater St.\, Portage
UID:e.374.10928
SEQUENCE:3
DTSTAMP:20260422T153833Z
URL:https://chamber.portagewi.com/events/details/portage-memory-cafe-08-27-2014-10928
END:VEVENT

END:VCALENDAR
