BEGIN:VCALENDAR
VERSION:2.0
PRODID:-//ChamberMaster//Event Calendar 2.0//EN
METHOD:PUBLISH
X-PUBLISHED-TTL:P3D
REFRESH-INTERVAL:P3D
CALSCALE:GREGORIAN
BEGIN:VEVENT
DTSTART:20130222T000000Z
DTEND:20130222T003000Z
X-MICROSOFT-CDO-ALLDAYEVENT:FALSE
SUMMARY:Portage - Premiere Show for Discover Wisconsin
DESCRIPTION:After a year of filming various attractions\, events and our community....The Premiere Is Here!! See the Discover Wisconsin-Portage edition before it airs. The public is invited to attend the premiere at the Portage Public Library on Thursday\, February 21 at 6pm. Mark your calendar and join us to see a star in the making...Portage!\n\n\n\nThe DW crew captured many community highlights of the past year. Host Emmy Fink was game as we put her on the water\, on the slopes\, in a kid's pedal tractor pull and in a theater performance. She even sampled tasty treats from local businesses. There is a good chance you will recognize the friendly faces that make cameos in the program\, which airs in seven Midwestern states.  \n\n\n\nWe are grateful for contributions from the following businesses and organizations that made this program possible: City of Portage Tourism\, Cascade Mountain\, Divine Savior Healthcare\, Business Improvement District\, Sky High Camping Resort\, Crawford Oil and Propane\, Wisconsin River Title Consultants\, Inc. and the Portage Area Chamber of Commerce. Funding is still needed to support the project. If you would like to contribute\, please call the Portage Area Chamber of Commerce office at 608-742-6242.    \n\n\n\nCome out and watch a star on the screen: Thursday\, February 21 at Portage Public Library at 6pm.
X-ALT-DESC;FMTTYPE=text/html:After a year of filming various attractions\, events and our community....The Premiere Is Here!! See the Discover Wisconsin-Portage edition before it airs. The public is invited to attend the premiere at the Portage Public Library on Thursday\, February 21 at 6pm. Mark your calendar and join us to see a star in the making...Portage!<br />\n<br />\nThe DW crew captured many community highlights of the past year. Host Emmy Fink was game as we put her on the water\, on the slopes\, in a kid&#39\;s pedal tractor pull and in a theater performance. She even sampled tasty treats from local businesses. There is a good chance you will recognize the friendly faces that make cameos in the program\, which airs in seven Midwestern states. &nbsp\;<br />\n<br />\nWe are grateful for contributions from the following businesses and organizations that made this program possible: City of Portage Tourism\, Cascade Mountain\, Divine Savior Healthcare\, Business Improvement District\,&nbsp\;Sky High Camping Resort\, Crawford Oil and Propane\, Wisconsin River Title Consultants\, Inc. and the Portage Area Chamber of Commerce. Funding is still needed to support the project. If you would like to contribute\, please call the Portage Area Chamber of Commerce office at 608-742-6242. &nbsp\; &nbsp\;<br />\n<br />\nCome out and watch a star on the screen: Thursday\, February 21 at Portage Public Library at 6pm.&nbsp\;&nbsp\;&nbsp\;&nbsp\;&nbsp\;&nbsp\;&nbsp\;&nbsp\;&nbsp\;&nbsp\;&nbsp\;&nbsp\;&nbsp\;&nbsp\;&nbsp\;&nbsp\;&nbsp\;<br />\n
LOCATION:Portage Public Library
UID:e.374.8150
SEQUENCE:3
DTSTAMP:20260423T164157Z
URL:https://chamber.portagewi.com/events/details/portage-premiere-show-for-discover-wisconsin-02-21-2013-8150
END:VEVENT

END:VCALENDAR
