BEGIN:VCALENDAR
VERSION:2.0
PRODID:-//ChamberMaster//Event Calendar 2.0//EN
METHOD:PUBLISH
X-PUBLISHED-TTL:P3D
REFRESH-INTERVAL:P3D
CALSCALE:GREGORIAN
BEGIN:VEVENT
DTSTART;VALUE=DATE:20120319
DTEND;VALUE=DATE:20120320
TRANSP:TRANSPARENT
X-MICROSOFT-CDO-ALLDAYEVENT:TRUE
SUMMARY:Regional Representative of U.S. Senator Herb Kohl to Hold Office Hours in Portage
DESCRIPTION:U.S. Senator Herb Kohl's Regional Representative\, Ryan Knocke\, will be in Portage on Monday\, March 19th to meet with constituents. \n\n \n\n"If you are having a problem with a federal program or agency\, or have an opinion on an issue before Congress\, please let me know by meeting with my Regional Representative\, Ryan Knocke\," Kohl said.
X-ALT-DESC;FMTTYPE=text/html:<span style="font-size: 14pt"><span style="font-family: arial\, sans-serif">U.S. Senator Herb Kohl&rsquo\;s Regional Representative\, Ryan Knocke\, will be in Portage on Monday\, March 19<sup>th</sup> to meet with constituents.&nbsp\;</span></span><br />\n&nbsp\;<br />\n<span style="font-size: 14pt"><span style="font-family: arial\, sans-serif">&quot\;If you are having a problem with a federal program or agency\, or have an opinion on an issue before Congress\, please let me know by meeting with my Regional Representative\, Ryan Knocke\,&rdquo\; Kohl said.</span></span><br />\n
LOCATION:Portage Public Library\, 253 W. Edgewater Street\, in the Bidwell Room. No appointment is necessary.
UID:e.374.6724
SEQUENCE:3
DTSTAMP:20260423T012759Z
URL:https://chamber.portagewi.com/events/details/regional-representative-of-u-s-senator-herb-kohl-to-hold-office-hours-in-portage-03-19-2012-6724
END:VEVENT

END:VCALENDAR
