BEGIN:VCALENDAR
VERSION:2.0
PRODID:-//ChamberMaster//Event Calendar 2.0//EN
METHOD:PUBLISH
X-PUBLISHED-TTL:P3D
REFRESH-INTERVAL:P3D
CALSCALE:GREGORIAN
BEGIN:VEVENT
DTSTART;VALUE=DATE:20130823
DTEND;VALUE=DATE:20130825
TRANSP:TRANSPARENT
X-MICROSOFT-CDO-ALLDAYEVENT:TRUE
SUMMARY:Taste of Portage Market Fair - Aug 23rd & 24th\, 2013
DESCRIPTION:Taste of Portage Market Fair 2013\n\n	Come enjoy  family fun at this event\, now celebrating 22 years!  There will be great food\, live music\, kid's activities\, an art and craft show along with a car show.  \n\n	Events take place at Market Square Parking Lot at the corner of Hwy 33 and Adams Street unless noted otherwise.\n\n	\n\n	  Craft vendors: Click Here for an application form. Click here for the required Wisconsin Temporary Event Operator and Seller Information form.  \n\n	\n\n	Curious about the tasty samples of food at this year's Taste of Portage? Take a peek at our menu by clicking this line !!!\n\n	\n\n	EVENT SCHEDULE:\n\n	Friday evening at Market Square:\n\n	Food Court and Beer Tent Opens at 5pm\n\n	Music by Chameleon from 7pm -11pm - (classic rock band)\n\n	\n\n	Saturday:\n\n	Zumba  Party to benefit St. Mary's School Project at 8:30am at Market Square - advance registration $10\, day of $12\n\n	Craft show along Cook Street  9am - 4pm\n\n	Car show along DeWitt St.  9am - 3pm\n\n	Click here for a flyer on the Car Show that lists all the classes. $10 entry fee that day. Register at the corner of DeWitt and Edgewater Street.\n\n	Food Court and Beer Tent Open at Market Square   10am - 6pm\n\n	\n\n	Music at Market Square:\n\n	Fuzzy Side Up (classics from the 60s\, 70s and 80s) from 11:30am - 3:30pm\n\n	Portage High School Jazz Band from 4pm - 6pm\n\n	\n\n	Music at Car show area - corner of DeWitt St and Cook St.\n\n	Red Hot Dixie  from 11am - 2pm\n\n	\n\n	Kid's Activities Saturday at Market Square along Cook Street:  11am - 3pm \n\n	- Lochlan the Magician\n\n	- Open Arms Creation Station for Kids \n\n	- Learning Tree Childcare Center Craft Area for Kids\n\n	- Indian Agency Hands On Demonstration Area for Kids\n\n	- Funtime Bounce Houses and Obstacle Course\n\n	\n\n	Kid's Pedal Pull:\n\n	1pm on Cook St. across from Bank Mutual\n\n	\n\n	Portage Family Skate Park Helmet Fitting and Giveaway 11am   3pm\n\n	Come to Taste of Portage and get your very own helmet and have the professionals help you get the right fit.  Come early because the helmets are only available while supplies last.  Stay for some great Skate Demonstrations at 2pm along Cook Street at Market Square.  Join the fun!\n\n	 \n\n	\n\n	Thank you to our Sponsors:\n\n	\n\n	Gold Level\n\n	City of Portage Tourism\n\n	Business Improvement District\n\n	 \n\n	Bronze Level\n\n	Crawford Oil & Propane\n\n	Portage National Bank\n\n	Hill Automotive\n\n	Johnson Chiropractic\n\n	Divine Savior Healthcare\n\n	Weaver Auto Parts\n\n	Wisconsin River Title\n\n	First Weber Realty\n\n	Fairway Independent Mortgage\n\n	General Engineering Company\n\n	Blau Family Chiropractic\n\n	H&M Contracting\n\n	Schultz Small Engine\n\n	Silver Level\n\n	Don-Rick Insurance\n\n	Portage Motors\n\n	Rhyme\n\n	Community Bank\n\n	Frontier Communications
X-ALT-DESC;FMTTYPE=text/html:<p>\n	<span style="font-family: arial"><span>Taste of Portage Market Fair 2013<br />\n	Come enjoy&nbsp\; family fun at this event\, now celebrating 22 years!&nbsp\; </span>There will be great food\, live music\, kid&#39\;s activities\, an art and craft show along with a car show.&nbsp\;&nbsp\;<br />\n	Events take place at Market Square Parking Lot at&nbsp\;the corner of Hwy 33 and Adams Street unless noted otherwise.<br />\n	<br />\n	<span style="background-color: rgb(255\,255\,0)"><span _fck_bookmark="1" style="display: none">&nbsp\;</span><span _fck_bookmark="1" style="display: none">&nbsp\;</span>Craft vendors: <a href="http://cloud.chambermaster.com/userfiles/UserFiles/chambers/374/File/Tastecraftapplication13.pdf">Click Here</a> for an application form. <a href="http://www.revenue.wi.gov/pubs/pb228.pdf">Click here</a> for the required Wisconsin Temporary Event Operator and Seller Information form.&nbsp\;<span _fck_bookmark="1" style="display: none">&nbsp\;</span></span><br />\n	<br />\n	<u><strong><span style="font-size: 14px"><a href="http://cloud.chambermaster.com/userfiles/UserFiles/chambers/374/File/TofPmenu2013.pdf">Curious about the tasty samples of food at this year&#39\;s Taste of Portage? Take a peek at our menu by clicking this line !!!</a><br />\n	<br />\n	EVENT SCHEDULE:</span><br />\n	Friday evening at Market Square</strong></u>:<br />\n	Food Court and Beer Tent Opens at 5pm<br />\n	Music by <em><strong><span style="font-size: 14px">Chameleon</span></strong></em> from 7pm -11pm - (classic rock band)<br />\n	<br />\n	<strong><u>Saturday:</u></strong><br />\n	Zumba<span style="font-size: 11px"><sup><span style="font-family: times new roman\, serif"><span style="font-family: times new roman">&reg\;</span></span></sup></span> Party to benefit St. Mary&#39\;s School Project&nbsp\;at 8:30am at Market Square&nbsp\;- advance registration $10\, day of $12<br />\n	Craft show along Cook Street&nbsp\; 9am - 4pm<br />\n	Car show along DeWitt St.&nbsp\; 9am - 3pm</span><br />\n	<span style="font-family: arial"><a href="http://cloud.chambermaster.com/userfiles/UserFiles/chambers/374/File/Carshowflyer2013.pdf"><span style="background-color: rgb(255\,255\,0)">Click here for a flyer on the Car Show that lists all the classes. $10 entry fee that day.</span></a>&nbsp\;Register at the corner of DeWitt and Edgewater Street.<br />\n	Food Court and Beer Tent Open at Market Square&nbsp\;&nbsp\; 10am - 6pm<br />\n	<br />\n	Music at Market Square:</span><br />\n	<span style="font-family: arial"><span style="font-size: 14px"><em><strong>Fuzzy Side Up </strong></em></span>(classics from the 60s\, 70s and 80s)&nbsp\;</span>from 11:30am - 3:30pm<br />\n	<span style="font-size: 14px"><em><strong>Portage High School Jazz Band </strong></em></span>from 4pm - 6pm<br />\n	<br />\n	Music at Car show area - corner of DeWitt St and Cook St.<br />\n	<span style="font-size: 14px"><em><strong>Red Hot Dixie&nbsp\; </strong></em></span>from 11am - 2pm<br />\n	<br />\n	<span style="font-family: arial"><span style="font-size: 9pt">Kid&#39\;s Activities Saturday at Market Square along Cook Street:&nbsp\; 11am - 3pm&nbsp\;</span><br />\n	<span style="font-size: 9pt">- Lochlan the Magician<br />\n	-&nbsp\;</span></span><span style="font-family: arial"><span style="font-size: 9pt">Open Arms Creation Station&nbsp\;for Kids&nbsp\;<br />\n	- Learning Tree Childcare Center Craft Area for Kids<br />\n	- Indian Agency Hands On&nbsp\;Demonstration Area for Kids<br />\n	- <span style="font-family: arial"><span style="font-size: 9pt">Funtime Bounce Houses and Obstacle Course</span></span></span><br />\n	<br />\n	<span style="font-size: 9pt">Kid&#39\;s Pedal Pull:<br />\n	1pm on Cook St. across from Bank Mutual</span></span><br />\n	<br />\n	<font face="Arial"><span style="font-size: 12px">Portage Family Skate&nbsp\;Park Helmet Fitting and Giveaway&nbsp\;<span style="color: rgb(34\,34\,34)"><span style="font-family: arial\, sans-serif">11am &ndash\; 3pm<br />\n	Come to Taste of Portage and get your very own&nbsp\;helmet and have the professionals help you get the right fit.&nbsp\; Come early because the helmets are only available while supplies last.&nbsp\; Stay for some great Skate Demonstrations at 2pm along Cook Street at Market Square.&nbsp\; Join the fun!</span></span></span><br />\n	&nbsp\;</font><br />\n	<br />\n	<span style="font-size: 11px"><span style="font-family: arial"><span style="font-size: 12px">Thank you to our Sponsors:<br />\n	<br />\n	<strong><u>Gold Level</u></strong><br />\n	City of Portage Tourism<br />\n	Business Improvement District<br />\n	&nbsp\;<br />\n	<strong><u>Bronze Level</u></strong><br />\n	Crawford Oil &amp\; Propane<br />\n	Portage National Bank<br />\n	Hill Automotive<br />\n	Johnson Chiropractic<br />\n	Divine Savior Healthcare<br />\n	Weaver Auto Parts<br />\n	Wisconsin River Title<br />\n	First Weber Realty<br />\n	Fairway Independent Mortgage<br />\n	General Engineering Company<br />\n	Blau Family Chiropractic<br />\n	H&amp\;M Contracting<br />\n	Schultz Small Engine</span></span></span></p>\n<p>\n	<span style="font-size: 11px"><span style="font-family: arial"><span style="font-size: 12px"><strong><u>Silver Level</u></strong><br />\n	Don-Rick Insurance<br />\n	Portage Motors<br />\n	Rhyme<br />\n	Community Bank</span></span></span><br />\n	Frontier Communications</p>\n
LOCATION:Downtown Portage along Hwy 33 and in the Market Square Parking Lot located at the corner of Hwy 33 and Adams Street
UID:e.374.6967
SEQUENCE:3
DTSTAMP:20260423T072918Z
URL:https://chamber.portagewi.com/events/details/taste-of-portage-market-fair-aug-23rd-24th-2013-08-23-2013-6967
END:VEVENT

END:VCALENDAR
