BEGIN:VCALENDAR
VERSION:2.0
PRODID:-//ChamberMaster//Event Calendar 2.0//EN
METHOD:PUBLISH
X-PUBLISHED-TTL:P3D
REFRESH-INTERVAL:P3D
CALSCALE:GREGORIAN
BEGIN:VEVENT
DTSTART:20181207T214500Z
DTEND:20181207T233000Z
X-MICROSOFT-CDO-ALLDAYEVENT:FALSE
SUMMARY:Teen Video Game Night
DESCRIPTION:TEENS!  Join us for a casual evening of snacks and video games. We'll break out the PS4 and Nintendo Wii so we can play group games like Guitar Hero 5\, Wii Sports\, Super Smash Bros. Brawl\, Wario Ware: Smooth Moves\, Mario Kart\, and more!\n\n\n\nWe can also dabble with some Fornite\, Dark Souls\, Bloodborne\, and possibly even Overwatch! We'll do quick matches so people can jump in and jump out at their leisure.\n\n\n\nFor teens 6th to 12th grade ONLY!
X-ALT-DESC;FMTTYPE=text/html:<span style="font-size: 14px\;">TEENS!&nbsp\; Join us for a casual evening of snacks and video games. We&#39\;ll break out the PS4 and Nintendo Wii so we can play group games like Guitar Hero 5\, Wii Sports\, Super Smash Bros. Brawl\, Wario Ware: Smooth Moves\, Mario Kart\, and more!<br />\n<br />\nWe can also dabble with some Fornite\, Dark Souls\, Bloodborne\, and possibly even Overwatch! We&#39\;ll do quick matches so people can jump in and jump out at their leisure.<br />\n<br />\nFor teens 6th to 12th grade ONLY!</span>
LOCATION:Portage Public Library
UID:e.374.24583
SEQUENCE:3
DTSTAMP:20260420T003029Z
URL:https://chamber.portagewi.com/events/details/teen-video-game-night-12-07-2018-24583
END:VEVENT

END:VCALENDAR
