BEGIN:VCALENDAR
VERSION:2.0
PRODID:-//ChamberMaster//Event Calendar 2.0//EN
METHOD:PUBLISH
X-PUBLISHED-TTL:P3D
REFRESH-INTERVAL:P3D
CALSCALE:GREGORIAN
BEGIN:VEVENT
DTSTART;VALUE=DATE:20181011
DTEND;VALUE=DATE:20181015
TRANSP:TRANSPARENT
X-MICROSOFT-CDO-ALLDAYEVENT:TRUE
SUMMARY:The Appearing - Voice of Prophecy
DESCRIPTION:Are you ready for The APPEARING?\n\nThe ancients predicted it.  Millions of people can't stop talking about it.  And even though global unrest and natural disasters indicate that it will happen soon\, few agree on exactly how or when it will happen.  Is it possible that many people are making a mistake about The Appearing - and event mentioned more than 2\,500 times in the Bible?\n\n\n\nA FREE event about end-time Bible prophecies with Shawn Boonstra.\n\n\n\nThursday\, October 11 - Opening Night 6:30PM\n\nA Planet in Upheaval\n\nDid the Bible predict the storms\, wars and political unrest we see today?  Discover the biblical signs that point to The Appearing.\n\n\n\nFriday\, October 12 - Session 2  6:30PM\n\nThe Abomination of Desolation\n\n\n\nSaturday\, October 13 - Session 3  11AM\n\nThe Appearing\n\n\n\nSaturday\, October 13 - Session 4  6:30PM\n\nProphecy Interrupted\n\n\n\nSunday October 14  - Session 5  6:30PM\n\nThe Battle of Armageddon
X-ALT-DESC;FMTTYPE=text/html:<span style="font-size: 16px\;"><span style="font-family: arial\;"><span lang="EN" new="" times=""><strong><font color="#000000">Are you ready for The APPEARING?</font></strong></span><br />\n<span lang="EN" new="" times=""><font color="#000000">The ancients predicted it.&nbsp\; Millions of people can&#39\;t stop talking about it.&nbsp\; And even though global unrest and natural disasters indicate that it will happen soon\, few agree on exactly how or when it will happen.&nbsp\; Is it possible that many people are making a mistake about The Appearing - and event mentioned more than 2\,500 times in the Bible?<br />\n<br />\nA FREE event about end-time Bible prophecies with Shawn Boonstra.<br />\n<br />\nThursday\, October 11 - Opening Night 6:30PM<br />\nA Planet in Upheaval<br />\nDid the Bible predict the storms\, wars and political unrest we see today?&nbsp\; Discover the biblical signs that point to <span new="" times="">The Appearing.</span><br />\n<br />\nFriday\, October 12 - Session 2&nbsp\; 6:30PM<br />\nThe Abomination of Desolation<br />\n<br />\nSaturday\, October 13 - Session 3&nbsp\; 11AM<br />\nThe Appearing<br />\n<br />\nSaturday\, October 13 - Session 4&nbsp\; 6:30PM<br />\nProphecy Interrupted<br />\n<br />\nSunday October 14&nbsp\; - Session 5&nbsp\; 6:30PM<br />\nThe Battle of Armageddon</font></span></span></span>
LOCATION:Portage Seventh-Day Adventist Church 2100 East State Road 33 Portage\, WI
UID:e.374.24314
SEQUENCE:3
DTSTAMP:20260423T023833Z
URL:https://chamber.portagewi.com/events/details/the-appearing-voice-of-prophecy-24314
END:VEVENT

END:VCALENDAR
