BEGIN:VCALENDAR
VERSION:2.0
PRODID:-//ChamberMaster//Event Calendar 2.0//EN
METHOD:PUBLISH
X-PUBLISHED-TTL:P3D
REFRESH-INTERVAL:P3D
CALSCALE:GREGORIAN
BEGIN:VEVENT
DTSTART;VALUE=DATE:20181018
DTEND;VALUE=DATE:20181019
TRANSP:TRANSPARENT
X-MICROSOFT-CDO-ALLDAYEVENT:TRUE
SUMMARY:The Art of Kenneth Carlson at Tivoli
DESCRIPTION:Portage Center for the Arts at Tivoli is proud to present the art of Kenneth W. Carlson.\n\nKen's exhibit\, As I See It Still\, explores his unique perspective on architecture and other objects of interest found during his travels locally and abroad.\n\n\n\nCome and meet the artist during a NEW TIME on Thursday\, October 18\, 2018 from 3-5pm. \n\n\n\nExhibit runs through December. Tivoli is located at 2805 Hunters Trail\, behind Divine Savior Healthcare in Portage.
X-ALT-DESC;FMTTYPE=text/html:<p class="MsoNormal" style="margin: 0in 0in 0pt\; mso-pagination: none\; mso-layout-grid-align: none\;"><span style="font-size: medium\;"><span style="font-family: calibri\;">Portage Center for the Arts at Tivoli is proud to present the art of Kenneth W. Carlson.<br />\nKen&#39\;s exhibit\, As I See It Still\, explores his unique perspective on architecture and other objects of interest found during his travels locally and abroad.<br />\n<br />\nCome and meet the artist during a NEW TIME on Thursday\, October 18\, 2018 from 3-5pm.&nbsp\;<br />\n<br />\nExhibit runs through December. Tivoli is located at 2805 Hunters Trail\, behind Divine Savior Healthcare in Portage.</span></span><br />\n&nbsp\;</p>\n
LOCATION:Tivoli 2805 Hunters Trail (located behind Divine Savior Healthcare)
UID:e.374.24307
SEQUENCE:3
DTSTAMP:20260425T104414Z
URL:https://chamber.portagewi.com/events/details/the-art-of-kenneth-carlson-at-tivoli-24307
END:VEVENT

END:VCALENDAR
